BEGIN:VCALENDAR
VERSION:2.0
PRODID:-//eventon.com NONSGML v1.0//EN
CALSCALE:GREGORIAN
METHOD:PUBLISH
BEGIN:VEVENT
UID:69e78825cb6f2
DTSTAMP:20260421T142229Z
DTSTART:20250625T100000Z
DTEND:20250709T120000Z
LOCATION:St Marie&#039;s Lugsdale Road\,  Widnes WA8 6DB
SUMMARY:Violence Against Women Stops Here Course
DESCRIPTION:A 3-week course for women who are ready to break the cycle\,  r
 emember their worth\,  and start writing a new story. Created and delivered
  by Jessica Ann\,  It Starts With You. You&#8217;ll learn: Spot red flags i
 n dating and relationships and understand exactly why they’re dangerous G
 et clear on what[..]\nhttps://fortunafemale.org/events/violence-against-wom
 en-stops-here-course/
URL:https://fortunafemale.org/events/violence-against-women-stops-here-course/
END:VEVENT
END:VCALENDAR