BEGIN:VCALENDAR
VERSION:2.0
PRODID:-//eventon.com NONSGML v1.0//EN
CALSCALE:GREGORIAN
METHOD:PUBLISH
BEGIN:VEVENT
UID:69e7b456c6b6b
DTSTAMP:20260421T173102Z
DTSTART:20260515T183000Z
DTEND:20260515T203000Z
LOCATION:...SPACE 50 Regent Street
SUMMARY:Women's Supper Club Runcorn
DESCRIPTION:Looking for a cosy get-together? Our Supper Club for women 18+ 
 is just the thing! Enjoy a delicious bowl of soup with great company &#8211
 ; perfect for unwinding and meeting new people. Bring something for the swe
 et trolley and a friend! Supper club is free but donations are always welco
 me.[..]\nhttps://fortunafemale.org/events/womens-supper-club-runcorn/var/ri
 -2.l-L1
URL:https://fortunafemale.org/events/womens-supper-club-runcorn/var/ri-2.l-L1
END:VEVENT
END:VCALENDAR