BEGIN:VCALENDAR
VERSION:2.0
PRODID:-//eventon.com NONSGML v1.0//EN
CALSCALE:GREGORIAN
METHOD:PUBLISH
BEGIN:VEVENT
UID:69e79d4067570
DTSTAMP:20260421T155232Z
DTSTART:20260508T183000Z
DTEND:20260508T203000Z
LOCATION:St Marie&#039;s Lugsdale Road\,  Widnes WA8 6DB
SUMMARY:Women's Supper Club
DESCRIPTION:Looking for a cosy get-together? Our Supper Club for women 18+ 
 is just the thing! Enjoy a delicious bowl of soup with great company &#8211
 ; perfect for unwinding and meeting new people. Bring something for the swe
 et trolley and a friend! Supper club is free but donations are always welco
 me.[..]\nhttps://fortunafemale.org/events/supper-club/var/ri-7.l-L1
URL:https://fortunafemale.org/events/supper-club/var/ri-7.l-L1
END:VEVENT
END:VCALENDAR